BEGIN:VCALENDAR
VERSION:2.0
PRODID:-//PaffKreativ - ECPv6.15.17.1//NONSGML v1.0//EN
CALSCALE:GREGORIAN
METHOD:PUBLISH
X-WR-CALNAME:PaffKreativ
X-ORIGINAL-URL:https://paffkreativ.at
X-WR-CALDESC:Veranstaltungen für PaffKreativ
REFRESH-INTERVAL;VALUE=DURATION:PT1H
X-Robots-Tag:noindex
X-PUBLISHED-TTL:PT1H
BEGIN:VTIMEZONE
TZID:Europe/Vienna
BEGIN:DAYLIGHT
TZOFFSETFROM:+0100
TZOFFSETTO:+0200
TZNAME:CEST
DTSTART:20250330T010000
END:DAYLIGHT
BEGIN:STANDARD
TZOFFSETFROM:+0200
TZOFFSETTO:+0100
TZNAME:CET
DTSTART:20251026T010000
END:STANDARD
BEGIN:DAYLIGHT
TZOFFSETFROM:+0100
TZOFFSETTO:+0200
TZNAME:CEST
DTSTART:20260329T010000
END:DAYLIGHT
BEGIN:STANDARD
TZOFFSETFROM:+0200
TZOFFSETTO:+0100
TZNAME:CET
DTSTART:20261025T010000
END:STANDARD
BEGIN:DAYLIGHT
TZOFFSETFROM:+0100
TZOFFSETTO:+0200
TZNAME:CEST
DTSTART:20270328T010000
END:DAYLIGHT
BEGIN:STANDARD
TZOFFSETFROM:+0200
TZOFFSETTO:+0100
TZNAME:CET
DTSTART:20271031T010000
END:STANDARD
END:VTIMEZONE
BEGIN:VEVENT
DTSTART;VALUE=DATE:20260322
DTEND;VALUE=DATE:20260323
DTSTAMP:20260423T135912
CREATED:20260306T082356Z
LAST-MODIFIED:20260309T082047Z
UID:10000031-1774137600-1774223999@paffkreativ.at
SUMMARY:Pokémon Pre-Release "Optimale Ordnung"
DESCRIPTION:Sei einer der Ersten\, der das neue Pokémon-TCG-Set „Optimale Ordnung“ erlebt! Beim Prerelease-Event in unserem Store Brickcomplete erhältst du ein Build-&-Battle-Kit\, baust dein eigenes Deck und trittst in lockerer Turnieratmosphäre gegen andere Trainer an. \nEgal ob Einsteiger oder erfahrener Spieler – das Event ist perfekt\, um das neue Set früh auszuprobieren\, neue Karten zu entdecken und gemeinsam Spaß am Spiel zu haben. Natürlich warten auch kleine Preise und jede Menge Pokémon-Community-Feeling!
URL:https://paffkreativ.at/event/pokemon-pre-release-optimale-ordnung/
LOCATION:Brickcomplete\, Gleisdorfer Gasse 5\, Graz\, Steiermark\, 8010\, Austria
CATEGORIES:Pokemon
ATTACH;FMTTYPE=image/png:https://paffkreativ.at/wp-content/uploads/2026/03/e02249b5-dbff-480c-856f-aa0e262da259.png
ORGANIZER;CN="Brickcomplete":MAILTO:office@brickcomplete.com
END:VEVENT
END:VCALENDAR