BEGIN:VCALENDAR
VERSION:2.0
PRODID:-//PaffKreativ - ECPv6.15.17.1//NONSGML v1.0//EN
CALSCALE:GREGORIAN
METHOD:PUBLISH
X-WR-CALNAME:PaffKreativ
X-ORIGINAL-URL:https://paffkreativ.at
X-WR-CALDESC:Veranstaltungen für PaffKreativ
REFRESH-INTERVAL;VALUE=DURATION:PT1H
X-Robots-Tag:noindex
X-PUBLISHED-TTL:PT1H
BEGIN:VTIMEZONE
TZID:Europe/Vienna
BEGIN:DAYLIGHT
TZOFFSETFROM:+0100
TZOFFSETTO:+0200
TZNAME:CEST
DTSTART:20250330T010000
END:DAYLIGHT
BEGIN:STANDARD
TZOFFSETFROM:+0200
TZOFFSETTO:+0100
TZNAME:CET
DTSTART:20251026T010000
END:STANDARD
BEGIN:DAYLIGHT
TZOFFSETFROM:+0100
TZOFFSETTO:+0200
TZNAME:CEST
DTSTART:20260329T010000
END:DAYLIGHT
BEGIN:STANDARD
TZOFFSETFROM:+0200
TZOFFSETTO:+0100
TZNAME:CET
DTSTART:20261025T010000
END:STANDARD
BEGIN:DAYLIGHT
TZOFFSETFROM:+0100
TZOFFSETTO:+0200
TZNAME:CEST
DTSTART:20270328T010000
END:DAYLIGHT
BEGIN:STANDARD
TZOFFSETFROM:+0200
TZOFFSETTO:+0100
TZNAME:CET
DTSTART:20271031T010000
END:STANDARD
END:VTIMEZONE
BEGIN:VEVENT
DTSTART;TZID=Europe/Vienna:20260528T180000
DTEND;TZID=Europe/Vienna:20260528T203000
DTSTAMP:20260423T145950
CREATED:20260411T082158Z
LAST-MODIFIED:20260422T110241Z
UID:10000565-1779991200-1780000200@paffkreativ.at
SUMMARY:be pART - Dancer in the Streets
DESCRIPTION:Entdecke deine kreative Seite in unseren inspirierenden Workshops voller Farbe und Spaß!\n  \nWann: Donnerstag\, 28.05.2026 um 18 Uhr  \nWo: Gleisdorfer Gasse 5\, 8010 Graz \nBalletttänzerin im Banksy Stil\, wir malen eine tanzende Ballerina\, wild und wie sie uns gefällt. Die Farben wählst du und auch den Hintergrund. Wird sie eine Glitzertänzerin\, wird sie sich mit Federn schmücken oder aus dem Dunkel der Bühne ins Licht tanzen. Wir werden mit Perlen\, Glitzer\, Federn und fluoreszierenden Farben ein einzigartiges Bild zaubern. \nDer Workshop ist für alle Altersgruppen und speziell für Teilnehmer/innen ohne viel Erfahrung zugänglich.\nKinder bis 12 Jahre können in Begleitung eines Erwachsenen teilnehmen. \nDein Abenteuer dauert ca. 2 Stunden\, fördert kreative Entfaltung und setzt auf Individualität und Freude.\nMaterial musst du nicht mitbringen\, Leinwände\, Pinsel und Acrylfarben werden bereitgestellt. \n  \nPreis pro Teilnehmer/in: 45€ (Material inkludiert)
URL:https://paffkreativ.at/event/be-part-city-lights/
LOCATION:Brickcomplete\, Gleisdorfer Gasse 5\, Graz\, Steiermark\, 8010\, Austria
CATEGORIES:be pART - Kreativworkshop
ATTACH;FMTTYPE=image/jpeg:https://paffkreativ.at/wp-content/uploads/2026/04/2d16addc-e5cd-4db7-b181-feefd5342438.jpg
ORGANIZER;CN="Paffkreativ":MAILTO:veranstaltungen@paffkreativ.at
END:VEVENT
END:VCALENDAR