BEGIN:VCALENDAR
VERSION:2.0
PRODID:-//PaffKreativ - ECPv6.15.17.1//NONSGML v1.0//EN
CALSCALE:GREGORIAN
METHOD:PUBLISH
X-WR-CALNAME:PaffKreativ
X-ORIGINAL-URL:https://paffkreativ.at
X-WR-CALDESC:Veranstaltungen für PaffKreativ
REFRESH-INTERVAL;VALUE=DURATION:PT1H
X-Robots-Tag:noindex
X-PUBLISHED-TTL:PT1H
BEGIN:VTIMEZONE
TZID:Europe/Vienna
BEGIN:DAYLIGHT
TZOFFSETFROM:+0100
TZOFFSETTO:+0200
TZNAME:CEST
DTSTART:20250330T010000
END:DAYLIGHT
BEGIN:STANDARD
TZOFFSETFROM:+0200
TZOFFSETTO:+0100
TZNAME:CET
DTSTART:20251026T010000
END:STANDARD
BEGIN:DAYLIGHT
TZOFFSETFROM:+0100
TZOFFSETTO:+0200
TZNAME:CEST
DTSTART:20260329T010000
END:DAYLIGHT
BEGIN:STANDARD
TZOFFSETFROM:+0200
TZOFFSETTO:+0100
TZNAME:CET
DTSTART:20261025T010000
END:STANDARD
BEGIN:DAYLIGHT
TZOFFSETFROM:+0100
TZOFFSETTO:+0200
TZNAME:CEST
DTSTART:20270328T010000
END:DAYLIGHT
BEGIN:STANDARD
TZOFFSETFROM:+0200
TZOFFSETTO:+0100
TZNAME:CET
DTSTART:20271031T010000
END:STANDARD
END:VTIMEZONE
BEGIN:VEVENT
DTSTART;TZID=Europe/Vienna:20260709T180000
DTEND;TZID=Europe/Vienna:20260709T203000
DTSTAMP:20260422T202747
CREATED:20260422T112807Z
LAST-MODIFIED:20260422T112807Z
UID:10000570-1783620000-1783629000@paffkreativ.at
SUMMARY:be pART - PAFF Ente in Ferienstimmung
DESCRIPTION:Entdecke deine kreative Seite in unseren inspirierenden Workshops voller Farbe und Spaß!\n  \nWann: Donnerstag\, 09.07.2026 um 18 Uhr  \nWo: Gleisdorfer Gasse 5\, 8010 Graz \nDie Sommerferien nahen und wir sind alle voller Vorfreude und damit wir uns drauf kreativ einstimmen\, kannst du bei uns ganz wie der große Banksy\, unsere PAFF Ente & friends malen. Komm auch du mit deinem besten Freund\, deiner Freundin\, Mama\, Papa\, Schwester oder Bruder und sei dabei. Für alle die keine Sommerferien haben gibt’s bei uns dann den kleinen erholsamen Kurzurlaub. Klimaanlage sei Dank! Quack Quack \nDer Workshop ist für alle Altersgruppen und speziell für Teilnehmer/innen ohne viel Erfahrung zugänglich.\nKinder bis 12 Jahre können in Begleitung eines Erwachsenen teilnehmen. \nDein Abenteuer dauert ca. 2 Stunden\, fördert kreative Entfaltung und setzt auf Individualität und Freude.\nMaterial musst du nicht mitbringen\, Leinwände\, Pinsel und Acrylfarben werden bereitgestellt. \n  \nPreis pro Teilnehmer/in: 45€ (Material inkludiert)
URL:https://paffkreativ.at/event/be-part-paff-ente-in-ferienstimmung/
LOCATION:Brickcomplete\, Gleisdorfer Gasse 5\, Graz\, Steiermark\, 8010\, Austria
CATEGORIES:be pART - Kreativworkshop
ATTACH;FMTTYPE=image/jpeg:https://paffkreativ.at/wp-content/uploads/2026/04/e925dd31-4275-4322-9cb7-4a57d4949332.jpg
ORGANIZER;CN="Paffkreativ":MAILTO:veranstaltungen@paffkreativ.at
END:VEVENT
END:VCALENDAR